BEGIN:VCALENDAR
VERSION:2.0
PRODID:spatie/icalendar-generator
DESCRIPTION:Events from Buffalo Audubon
X-WR-CALDESC:Events from Buffalo Audubon
REFRESH-INTERVAL;VALUE=DURATION:PT1440M
X-PUBLISHED-TTL:PT1440M
BEGIN:VTIMEZONE
TZID:America/New_York
BEGIN:STANDARD
DTSTART:20251102T020000Z
TZOFFSETFROM:-0400
TZOFFSETTO:-0500
END:STANDARD
BEGIN:DAYLIGHT
DTSTART:20260308T020000Z
TZOFFSETFROM:-0500
TZOFFSETTO:-0400
END:DAYLIGHT
END:VTIMEZONE
BEGIN:VTIMEZONE
TZID:UTC
BEGIN:STANDARD
DTSTART:20250723T142835Z
TZOFFSETFROM:+0000
TZOFFSETTO:+0000
END:STANDARD
END:VTIMEZONE
BEGIN:VEVENT
UID:63-49
DTSTAMP:20260419T142835Z
SUMMARY:Bird-Friendly Buffalo Symposium
LOCATION:University at Buffalo South Campus\, Hayes Hall\, Harriman Ballroo
 m 250 Hayes Road  Buffalo NY 14214
ORGANIZER;CN=Buffalo Audubon Staff:MAILTO:info@buffaloaudubon.org
DTSTART;TZID=America/New_York:20260423T183000
DTEND;TZID=America/New_York:20260423T200000
X-ALT-DESC;FMTTYPE=TEXT/HTML:Join us at this year’s 2nd annual Bird-Frien
 dly Buffalo Symposium\, at 6:30 – 8 p.m. Thursday\, April 23 at the Univ
 ersity at Buffalo South Campus Hayes Hall Harriman Ballroom\, located at 2
 50 Hayes Rd\, Buffalo\, NY 14214. Be part of this expert-led Symposium hig
 hlighting practical solutions for making Buffalo a more bird-friendly regi
 on. Featured speaker&amp;hellip\;
CATEGORIES:Bird-Friendly Buffalo
URL;VALUE=URI:https://buffaloaudubon.org/mc-events/bird-friendly-buffalo-sy
 mposium/
METHOD:PUBLISH
END:VEVENT
END:VCALENDAR