BEGIN:VCALENDAR
VERSION:2.0
PRODID:spatie/icalendar-generator
DESCRIPTION:Events from Buffalo Audubon
X-WR-CALDESC:Events from Buffalo Audubon
REFRESH-INTERVAL;VALUE=DURATION:PT1440M
X-PUBLISHED-TTL:PT1440M
BEGIN:VTIMEZONE
TZID:America/New_York
BEGIN:STANDARD
DTSTART:20251102T020000Z
TZOFFSETFROM:-0400
TZOFFSETTO:-0500
END:STANDARD
BEGIN:DAYLIGHT
DTSTART:20260308T020000Z
TZOFFSETFROM:-0500
TZOFFSETTO:-0400
END:DAYLIGHT
END:VTIMEZONE
BEGIN:VTIMEZONE
TZID:UTC
BEGIN:STANDARD
DTSTART:20250726T085825Z
TZOFFSETFROM:+0000
TZOFFSETTO:+0000
END:STANDARD
END:VTIMEZONE
BEGIN:VEVENT
UID:51-37
DTSTAMP:20260422T085825Z
SUMMARY:Volunteer Educator Training - Cold-Blooded Critters
LOCATION:Trillium Nature Center 1610 Welch Rd.  North Java New York 14113
ORGANIZER;CN=Trillium Nature Center:MAILTO:sydney@buffaloaudubon.org
DTSTART;TZID=America/New_York:20260328T130000
DTEND;TZID=America/New_York:20260328T143000
X-ALT-DESC;FMTTYPE=TEXT/HTML:Become a Volunteer Educator and Share Your Lov
 e of Nature! &amp;nbsp\; Meet the Education Animals used in our Cold-blooded C
 ritters program! Help kids big and small learn all about their adaptations
 \, their stories\, and how we care for them. Get hands on training on how 
 to help us deliver this program across Western New York!
CATEGORIES:Volunteers
URL;VALUE=URI:https://buffaloaudubon.org/mc-events/volunteer-educator-train
 ing-cold-blooded-critters/
METHOD:PUBLISH
END:VEVENT
END:VCALENDAR