BEGIN:VCALENDAR
VERSION:2.0
PRODID:spatie/icalendar-generator
DESCRIPTION:Events from Buffalo Audubon
X-WR-CALDESC:Events from Buffalo Audubon
REFRESH-INTERVAL;VALUE=DURATION:PT1440M
X-PUBLISHED-TTL:PT1440M
BEGIN:VTIMEZONE
TZID:America/New_York
BEGIN:STANDARD
DTSTART:20251102T020000Z
TZOFFSETFROM:-0400
TZOFFSETTO:-0500
END:STANDARD
BEGIN:DAYLIGHT
DTSTART:20260308T020000Z
TZOFFSETFROM:-0500
TZOFFSETTO:-0400
END:DAYLIGHT
BEGIN:STANDARD
DTSTART:20261101T020000Z
TZOFFSETFROM:-0400
TZOFFSETTO:-0500
END:STANDARD
END:VTIMEZONE
BEGIN:VTIMEZONE
TZID:UTC
BEGIN:STANDARD
DTSTART:20250727T085448Z
TZOFFSETFROM:+0000
TZOFFSETTO:+0000
END:STANDARD
END:VTIMEZONE
BEGIN:VEVENT
UID:53-39
DTSTAMP:20260423T085448Z
SUMMARY:The 68th Annual Allegany Nature Pilgrimage
LOCATION:
ORGANIZER;CN=Trillium Nature Center:MAILTO:sydney@buffaloaudubon.org
DTSTART;TZID=America/New_York;VALUE=DATE:20260529
DTEND;TZID=America/New_York;VALUE=DATE:20260601
X-ALT-DESC;FMTTYPE=TEXT/HTML:​The Allegany Nature Pilgrimage is an annual
  outdoor learning experience. It combines fun with a variety of nature-ori
 ented activities. This weekend of natural history and outdoor education we
 lcomes both the experienced naturalist as well as the inquisitive beginner
 ! &amp;nbsp\; For more information\, visit the Allegany Nature Pilgrimage webs
 ite: https://www.alleganynaturepilgrimage.com/ &amp;nbsp\;
CATEGORIES:Non-Buffalo Audubon Event
URL;VALUE=URI:http://buffaloaudubon.org/mc-events/the-68th-annual-allegany-
 nature-pilgrimage/
METHOD:PUBLISH
END:VEVENT
END:VCALENDAR